BEGIN:VCALENDAR
PRODID:-//vBulletin 6//EN
VERSION:2.0
CALSCALE:GREGORIAN
BEGIN:VEVENT
UID:9e0c23d3-1530-4180-8d85-1c8811305f79
DTSTAMP:20260420T094813Z
SUMMARY:Keynote: Monero: Sound Money Safe Mode
DESCRIPTION:"Monero Means Money" -- with updated data\, new data on governm
 ent budget deficits\, and increased emphasis on Monero's importance in the
  current medical & economic crisis\n\nSpeaker(s): Dr. Daniel Kim\n\nLocati
 on: Monero Vlg\n\nDiscord: https://discord.com/channels/708208267699945503
 /732733510288408676\n\nEvent starts: 2020-08-09 10:00 (10:00 AM) PDT (UTC 
 -07:00)\n\nEvent ends: 2020-08-09 11:30 (11:30 AM) PDT (UTC -07:00)\n\nFor
  the most up-to-date information\, please either visit https://info.defcon
 .org\, or use HackerTracker\, which is available for iOS and Android. This
  is an automated message\, and this data was last modified 2020-07-29T14:3
 7 (UTC).
URL:https://forum.defcon.org/node/233993
DTSTART:20200809T180000Z
DTEND:20200809T193001Z
LOCATION:Monero Vlg
END:VEVENT
END:VCALENDAR
