BEGIN:VCALENDAR
PRODID:-//vBulletin 6//EN
VERSION:2.0
CALSCALE:GREGORIAN
BEGIN:VEVENT
UID:925f6264-eb03-4be1-bb41-922e11451711
DTSTAMP:20260420T032155Z
SUMMARY:You're not the money printer\, or why we need to separate coinbase 
 rings
DESCRIPTION:Speaker(s): sgp\n\nLocation: Monero Vlg\n\nDiscord: https://dis
 cord.com/channels/708208267699945503/732733510288408676\n\nEvent starts: 2
 020-08-09 12:00 (12:00 PM) PDT (UTC -07:00)\n\nEvent ends: 2020-08-09 12:3
 0 (12:30 PM) PDT (UTC -07:00)\n\nFor the most up-to-date information\, ple
 ase either visit https://info.defcon.org\, or use HackerTracker\, which is
  available for iOS and Android. This is an automated message\, and this da
 ta was last modified 2020-07-29T14:37 (UTC).
URL:https://forum.defcon.org/node/233994
DTSTART:20200809T200000Z
DTEND:20200809T203001Z
LOCATION:Monero Vlg
END:VEVENT
END:VCALENDAR
