BEGIN:VCALENDAR
PRODID:-//vBulletin 6//EN
VERSION:2.0
CALSCALE:GREGORIAN
BEGIN:VEVENT
UID:bced2595-aa00-4d87-a3cc-965f608359da
DTSTAMP:20260420T160420Z
SUMMARY:Badge Clinic
DESCRIPTION:Title: Badge Clinic\n\nDescription:\nWith the help of a close r
 ange circuit camera\, Michael illustrates the circuits of several recent c
 onference hardware devices\, including prototype models. Devices in circul
 ation and on display include: DC28 Intervillage Badge DC27 Rising Badge 35
 C3 Blockchain DC26/BCOS Badge HCPP19 Badge HCPP18 Badge This is not a spee
 ch presentation\, rather it is an easy office hours with show and tell to 
 invite questions and answers about low power electronic devices. Visit the
  Badge Clinic on any day of Defcon in the Monero Village channel.\n\nSpeak
 er(s): Michael Schloh von Bennewitz\n\nLocation: Monero Vlg\n\nDiscord: ht
 tps://discord.com/channels/708208267699945503/732733510288408676\n\nEvent 
 starts: 2020-08-09 13:30 (01:30 PM) PDT (UTC -07:00)\n\nEvent ends: 2020-0
 8-09 14:30 (02:30 PM) PDT (UTC -07:00)\n\nFor the most up-to-date informat
 ion\, please either visit https://info.defcon.org\, or use HackerTracker\,
  which is available for iOS and Android. This is an automated message\, an
 d this data was last modified 2020-08-06T21:48 (UTC).
URL:https://forum.defcon.org/node/233996
DTSTART:20200809T213000Z
DTEND:20200809T223001Z
LOCATION:Monero Vlg
END:VEVENT
END:VCALENDAR
