BEGIN:VCALENDAR
PRODID:-//vBulletin 6//EN
VERSION:2.0
CALSCALE:GREGORIAN
BEGIN:VEVENT
UID:e8cc9650-5699-4240-b22a-8bac63b088eb
DTSTAMP:20260423T202459Z
SUMMARY:Exploiting Spacecraft
DESCRIPTION:Title: Exploiting Spacecraft\n\nDescription:\nThis presentation
  will describe the high-level cyber threat landscape for space systems and
  focus on three examples: Command Replay Attack\, Command Link Intrusion\,
  and Denial of Service using GPS jamming. These three attacks were perform
 ed using high fidelity ground-to-space simulators to demonstrate the benef
 it of performing such research using simulation. These simulations leverag
 e many of the same software components used in operations today for severa
 l operational missions. Recommendations are provided on how to protect aga
 inst the attacks and references are provided so the audience can build the
 ir own simulations to begin their own research.\n\nThis event will be coor
 dinated on the DEF CON Discord server\, in channel #av-space-text.\n\n====
 =\n\nDiscord: https://discord.com/channels/708208267699945503/732394328105
 943180\n\nSpeaker(s): Brandon Bailey\n\nLocation: Aerospace Vlg\n\nDiscord
 : https://discord.com/channels/708208267699945503/732393044363444264\n\nEv
 ent starts: 2020-08-07 17:00 (05:00 PM) PDT (UTC -07:00)\n\nEvent ends: 20
 20-08-07 18:00 (06:00 PM) PDT (UTC -07:00)\n\nFor the most up-to-date info
 rmation\, please either visit https://info.defcon.org\, or use HackerTrack
 er\, which is available for iOS and Android. This is an automated message\
 , and this data was last modified 2020-08-06T21:14 (UTC).
URL:https://forum.defcon.org/node/234010
DTSTART:20200808T010000Z
DTEND:20200808T020001Z
LOCATION:Aerospace Vlg
END:VEVENT
END:VCALENDAR
