BEGIN:VCALENDAR
PRODID:-//vBulletin 6//EN
VERSION:2.0
CALSCALE:GREGORIAN
BEGIN:VEVENT
UID:3fe78d9d-f9cd-431f-bd24-e945ab666579
DTSTAMP:20260423T201635Z
SUMMARY:A View From The Cockpit: Exploring Pilot Reactions To Attacks On Av
 ionic Systems
DESCRIPTION:Title: A View From The Cockpit: Exploring Pilot Reactions To At
 tacks On Avionic Systems\n\nDescription:\nResearchers have been crafting a
 ttacks on aviation systems for almost a decade now\, on wireless technolog
 ies like ADS-B and ACARS to In Flight Entertainment (IFE) devices. Many at
 tacks seek to affect what the pilots see or how the aircraft is flown. Alt
 hough we can work out what should happen in theory\, does this translate t
 o practice? In this talk\, we describe how we investigated this using a fl
 ight simulator and 30 type-rated commercial pilots.\n\nIn particular\, we 
 will discuss:\n- What happens when your aircraft thinks you are on collisi
 on course - but nothing is there\,\n- How pilots respond when landing guid
 ance puts you at the wrong end of the runway (i.e. the reverse Die Hard)\,
 \n- Can attackers push flight crew into switching systems off?\n\nThis eve
 nt will be coordinated on the DEF CON Discord server\, in channel #av-avia
 tion-text.\n\n=====\n\nDiscord: https://discord.com/channels/7082082676999
 45503/732394164209057793\n\nSpeaker(s): Matt Smith\n\nLocation: Aerospace 
 Vlg\n\nDiscord: https://discord.com/channels/708208267699945503/7323930443
 63444264\n\nEvent starts: 2020-08-08 11:00 (11:00 AM) PDT (UTC -07:00)\n\n
 Event ends: 2020-08-08 11:30 (11:30 AM) PDT (UTC -07:00)\n\nFor the most u
 p-to-date information\, please either visit https://info.defcon.org\, or u
 se HackerTracker\, which is available for iOS and Android. This is an auto
 mated message\, and this data was last modified 2020-08-06T21:15 (UTC).
URL:https://forum.defcon.org/node/234015
DTSTART:20200808T190000Z
DTEND:20200808T193001Z
LOCATION:Aerospace Vlg
END:VEVENT
END:VCALENDAR
