BEGIN:VCALENDAR
PRODID:-//vBulletin 6//EN
VERSION:2.0
CALSCALE:GREGORIAN
BEGIN:VEVENT
UID:72873a22-227e-4c8d-810e-dad200348632
DTSTAMP:20260423T200818Z
SUMMARY:Hack-A-Sat End Of Day Recap
DESCRIPTION:Title: Hack-A-Sat End Of Day Recap\n\nDescription:\nThis segmen
 t will provide a round-up of the day's Hack-A-Sat activities\, notable ach
 ievements and other information for the rest of the competition.\n\nThis e
 vent will be coordinated on the DEF CON Discord server\, in channel #av-ha
 ck-a-sat-text.\n\n=====\n\nDiscord: https://discord.com/channels/708208267
 699945503/732393766677119087\n\nLocation: Aerospace Vlg\n\nDiscord: https:
 //discord.com/channels/708208267699945503/732393044363444264\n\nEvent star
 ts: 2020-08-08 16:00 (04:00 PM) PDT (UTC -07:00)\n\nEvent ends: 2020-08-08
  16:30 (04:30 PM) PDT (UTC -07:00)\n\nFor the most up-to-date information\
 , please either visit https://info.defcon.org\, or use HackerTracker\, whi
 ch is available for iOS and Android. This is an automated message\, and th
 is data was last modified 2020-08-06T21:16 (UTC).
URL:https://forum.defcon.org/node/234023
DTSTART:20200809T000000Z
DTEND:20200809T003001Z
LOCATION:Aerospace Vlg
END:VEVENT
END:VCALENDAR
