BEGIN:VCALENDAR
PRODID:-//vBulletin 6//EN
VERSION:2.0
CALSCALE:GREGORIAN
BEGIN:VEVENT
UID:23f45969-e16f-4ee5-a55f-9cef194bb856
DTSTAMP:20260423T202452Z
SUMMARY:Hacking Aerospace Cybersecurity Regulation
DESCRIPTION:Title: Hacking Aerospace Cybersecurity Regulation\n\nDescriptio
 n:\nThe aerospace industry is highly regulated with a great deal of focus 
 on cybersecurity. Other sectors have seen how good faith hackers and resea
 rchers can help increase resilience and highlight vulnerability – how be
 st to do that in a highly regulated\, safety critical industry like aerosp
 ace? Aerospace regulators have a key role in understanding risk and puttin
 g in place the legal frameworks and creating rules\, regulations and best 
 practice around good faith research\, join us on a panel with the research
  community and aerospace regulators to chat about what where we are and wh
 at we need to do.\n\nThis event will be coordinated on the DEF CON Discord
  server\, in channel #av-aviation-text.\n\n=====\n\nDiscord: https://disco
 rd.com/channels/708208267699945503/732394164209057793\n\nSpeaker(s): Harle
 y Geiger\, Kaylin Trychon\, Nicky Keeley\n\nLocation: Aerospace Vlg\n\nDis
 cord: https://discord.com/channels/708208267699945503/732393044363444264\n
 \nEvent starts: 2020-08-09 09:00 (09:00 AM) PDT (UTC -07:00)\n\nEvent ends
 : 2020-08-09 10:00 (10:00 AM) PDT (UTC -07:00)\n\nFor the most up-to-date 
 information\, please either visit https://info.defcon.org\, or use HackerT
 racker\, which is available for iOS and Android. This is an automated mess
 age\, and this data was last modified 2020-08-06T21:17 (UTC).
URL:https://forum.defcon.org/node/234026
DTSTART:20200809T170000Z
DTEND:20200809T180001Z
LOCATION:Aerospace Vlg
END:VEVENT
END:VCALENDAR
