BEGIN:VCALENDAR
PRODID:-//vBulletin 6//EN
VERSION:2.0
CALSCALE:GREGORIAN
BEGIN:VEVENT
UID:ed13a3e6-9460-41c0-bc10-92e35477c13a
DTSTAMP:20260423T232121Z
SUMMARY:Trust And Truth In Space Situational Awareness
DESCRIPTION:Title: Trust And Truth In Space Situational Awareness\n\nDescri
 ption:\nSpace Situational Awareness Data (SSA) is the lifeblood of respons
 ible spaceflight. With tens of thousands of debris objects in orbit\, know
 ing where and when collisions may occur is key to preventing lasting envir
 onmental harm. However\, SSA data collection is inordinately complex\, cre
 ating natural incentives for centralized information sharing. When actors 
 lack the capability to independently monitor the state of orbit\, they fin
 d themselves forced to trust third parties.\n\nIn this talk\, we consider 
 how a sufficiently motivated attacker might modify SSA repositories to del
 iberately conceal or falsify collision projections to influence the behavi
 ors of satellite owners. In addition to a high-level discussion of the rel
 evant threat model\, we will present simulated implementations of these at
 tacks. We will also briefly consider various mitigation techniques which c
 an be employed by both SSA operators and data recipients against such atta
 cks.\n\nThis talk will touch on basic principles of orbital dynamics and s
 paceflight operations but assumes no prior background in physics. It is in
 tended to serve as starting point for those interested in how the physical
  dynamics of outer space can manifest as unique security challenges.\n\nTh
 is event will be coordinated on the DEF CON Discord server\, in channel #a
 v-space-text.\n\n=====\n\nDiscord: https://discord.com/channels/7082082676
 99945503/732394328105943180\n\nSpeaker(s): James Pavur\n\nLocation: Aerosp
 ace Vlg\n\nDiscord: https://discord.com/channels/708208267699945503/732393
 044363444264\n\nEvent starts: 2020-08-09 10:00 (10:00 AM) PDT (UTC -07:00)
 \n\nEvent ends: 2020-08-09 10:30 (10:30 AM) PDT (UTC -07:00)\n\nFor the mo
 st up-to-date information\, please either visit https://info.defcon.org\, 
 or use HackerTracker\, which is available for iOS and Android. This is an 
 automated message\, and this data was last modified 2020-08-06T21:17 (UTC)
 .
URL:https://forum.defcon.org/node/234027
DTSTART:20200809T180000Z
DTEND:20200809T183001Z
LOCATION:Aerospace Vlg
END:VEVENT
END:VCALENDAR
