BEGIN:VCALENDAR
PRODID:-//vBulletin 6//EN
VERSION:2.0
CALSCALE:GREGORIAN
BEGIN:VEVENT
UID:017056bd-ebbb-44e7-8036-f760f6cb0f2f
DTSTAMP:20260423T230911Z
SUMMARY:747 Walkthrough From A Hacker's Perspective
DESCRIPTION:Title: 747 Walkthrough From A Hacker's Perspective\n\nDescripti
 on:\nThis will be a tour of an end of life 747 airframe\, covering a 101 o
 f the cockpit systems and avionics bays. We will also be explaining the va
 rious systems & threat surfaces.\n\nThis event will be coordinated on the 
 DEF CON Discord server\, in channel #av-aviation-text.\n\n=====\n\nDiscord
 : https://discord.com/channels/708208267699945503/732394164209057793\n\nSp
 eaker(s): Alex Lomas\, Ken Munro\n\nLocation: Aerospace Vlg\n\nDiscord: ht
 tps://discord.com/channels/708208267699945503/732393044363444264\n\nEvent 
 starts: 2020-08-09 10:30 (10:30 AM) PDT (UTC -07:00)\n\nEvent ends: 2020-0
 8-09 11:00 (11:00 AM) PDT (UTC -07:00)\n\nFor the most up-to-date informat
 ion\, please either visit https://info.defcon.org\, or use HackerTracker\,
  which is available for iOS and Android. This is an automated message\, an
 d this data was last modified 2020-08-06T21:17 (UTC).
URL:https://forum.defcon.org/node/234028
DTSTART:20200809T183000Z
DTEND:20200809T190001Z
LOCATION:Aerospace Vlg
END:VEVENT
END:VCALENDAR
