BEGIN:VCALENDAR
PRODID:-//vBulletin 6//EN
VERSION:2.0
CALSCALE:GREGORIAN
BEGIN:VEVENT
UID:0d3280eb-d3ab-4c3e-bbab-49e961bbc604
DTSTAMP:20260424T021402Z
SUMMARY:Hack-A-Sat Closing Segment
DESCRIPTION:Title: Hack-A-Sat Closing Segment\n\nDescription:\nThis segment
  will officially end the Hack-A-Sat competition. Tune in for awards and ce
 lebrations!\n\nThis event will be coordinated on the DEF CON Discord serve
 r\, in channel #av-hack-a-sat-text.\n\n=====\n\nDiscord: https://discord.c
 om/channels/708208267699945503/732393766677119087\n\nLocation: Aerospace V
 lg\n\nDiscord: https://discord.com/channels/708208267699945503/73239304436
 3444264\n\nEvent starts: 2020-08-09 14:00 (02:00 PM) PDT (UTC -07:00)\n\nE
 vent ends: 2020-08-09 15:00 (03:00 PM) PDT (UTC -07:00)\n\nFor the most up
 -to-date information\, please either visit https://info.defcon.org\, or us
 e HackerTracker\, which is available for iOS and Android. This is an autom
 ated message\, and this data was last modified 2020-08-06T21:17 (UTC).
URL:https://forum.defcon.org/node/234033
DTSTART:20200809T220000Z
DTEND:20200809T230001Z
LOCATION:Aerospace Vlg
END:VEVENT
END:VCALENDAR
