BEGIN:VCALENDAR
PRODID:-//vBulletin 6//EN
VERSION:2.0
CALSCALE:GREGORIAN
BEGIN:VEVENT
UID:2af8bbfd-68af-49b4-9c85-3e4da31e89c8
DTSTAMP:20260420T214122Z
SUMMARY:Blue Team Village - Opening Ceremony
DESCRIPTION:Title: Blue Team Village - Opening Ceremony\n\nLocation: Blue T
 eam Vlg / Blue Team Vlg - Talks Track 1\n\nDiscord: https://discord.com/ch
 annels/708208267699945503/732454317658734613\n\nEvent starts: 2020-08-06 0
 9:00 (09:00 AM) PDT (UTC -07:00)\n\nEvent ends: 2020-08-06 10:00 (10:00 AM
 ) PDT (UTC -07:00)\n\nFor the most up-to-date information\, please either 
 visit https://info.defcon.org\, or use HackerTracker\, which is available 
 for iOS and Android. This is an automated message\, and this data was last
  modified 2020-07-29T01:20 (UTC).
URL:https://forum.defcon.org/node/234085
DTSTART:20200806T170000Z
DTEND:20200806T180001Z
LOCATION:Blue Team Vlg / Blue Team Vlg - Talks Track 1
END:VEVENT
END:VCALENDAR
