BEGIN:VCALENDAR
PRODID:-//vBulletin 6//EN
VERSION:2.0
CALSCALE:GREGORIAN
BEGIN:VEVENT
UID:b079c2c5-7f22-4532-bfbb-828f49ea1247
DTSTAMP:20260420T101210Z
SUMMARY:(Intermediate) OuterHaven - The UEFI Memory Space Just Itching to b
 e Misused
DESCRIPTION:Title: (Intermediate) OuterHaven - The UEFI Memory Space Just I
 tching to be Misused\n\nDescription:\nThis presentation will cover researc
 h which explores the methods in which all levels of attackers can work wit
 h exploiting the UEFI memory space as well as methods for monitoring & enu
 merating this data haven and the associated access difficulties. I will al
 so demonstrate some scripting and Python code that leverages Windows hoste
 d elements to both exploit\, enumerate and monitor this safe space for eve
 ryone to play with.\n\nThe exploitaiton of UEFI memory has previously only
  been thought of as something that is used for rootkits or advanced/target
 ed offensive operations. However\, offensive actors and researchers have s
 hown that they are willing to exploit this area with increasing ease. This
  presentation goes one step further and highlights the extremely basic lev
 el of computer knowledge needed to exploit this in current Windows OS\, on
 e-click and copy-paste scripts being able to generate the same results. Ho
 wever\, the presentation also highlights solutions to monitor/access/analy
 ze issues for this reclusive data set which allows active threats to be sc
 rutinized and detection & preventative methods developed for both local an
 d remote security solutions.\n\nSpeaker(s): Connor Morley\n\nLocation: Blu
 e Team Vlg / Blue Team Vlg - Talks Track 1\n\nDiscord: https://discord.com
 /channels/708208267699945503/732454317658734613\n\nEvent starts: 2020-08-0
 7 11:00 (11:00 AM) PDT (UTC -07:00)\n\nEvent ends: 2020-08-07 12:00 (12:00
  PM) PDT (UTC -07:00)\n\nFor the most up-to-date information\, please eith
 er visit https://info.defcon.org\, or use HackerTracker\, which is availab
 le for iOS and Android. This is an automated message\, and this data was l
 ast modified 2020-08-02T22:51 (UTC).
URL:https://forum.defcon.org/node/234088
DTSTART:20200807T190000Z
DTEND:20200807T200001Z
LOCATION:Blue Team Vlg / Blue Team Vlg - Talks Track 1
END:VEVENT
END:VCALENDAR
