BEGIN:VCALENDAR
PRODID:-//vBulletin 6//EN
VERSION:2.0
CALSCALE:GREGORIAN
BEGIN:VEVENT
UID:7a191481-17ad-427b-ba27-30719d889d6b
DTSTAMP:20260421T103724Z
SUMMARY:(Intermediate) Defending Your UNIX Hosts
DESCRIPTION:Title: (Intermediate) Defending Your UNIX Hosts\n\nDescription:
 \nOver the past 7 months\, I have created an open-source monitoring suite 
 called Secsuite.\nSecsuite is a fully automated Threat Detection\, System 
 Monitorization / Notifier suite for UNIX Sysadmins & Users alike.\nSecsuit
 e has multiple packages\, the focus in this workshop shall be Inframon\, w
 hich is able to monitor\, defend & notify you about your infrastructure\, 
 probing your hosts for:\n- Apache Server Status\n- Bandwidth Usage\n- CPU 
 Load Averages & Temperatures\n- Disk Space Usage\n- Latency time\n- Memory
  (RAM) Usage\n- Users Monitor\n\nOver the past 7 months\, I have created a
 n open-source monitoring suite called Secsuite.\nSecsuite is a fully autom
 ated Threat Detection\, System Monitorization / Notifier suite for UNIX Sy
 sadmins & Users alike.\nSecsuite has multiple packages\, the focus in this
  workshop shall be Inframon\, which is able to monitor\, defend & notify y
 ou about your infrastructure\, probing your hosts for:\n- Apache Server St
 atus\n- Bandwidth Usage\n- CPU Load Averages & Temperatures\n- Disk Space 
 Usage\n- Latency time\n- Memory (RAM) Usage\n- Users Monitor\n\nSpeaker(s)
 : Daniel Ward\, Samuel Gasparro\n\nLocation: Blue Team Vlg / Blue Team Vlg
  - Workshop Track 1\n\nDiscord: https://discord.com/channels/7082082676999
 45503/732454317658734613\n\nEvent starts: 2020-08-08 15:30 (03:30 PM) PDT 
 (UTC -07:00)\n\nEvent ends: 2020-08-08 16:15 (04:15 PM) PDT (UTC -07:00)\n
 \nFor the most up-to-date information\, please either visit https://info.d
 efcon.org\, or use HackerTracker\, which is available for iOS and Android.
  This is an automated message\, and this data was last modified 2020-08-02
 T22:53 (UTC).
URL:https://forum.defcon.org/node/234106
DTSTART:20200808T233000Z
DTEND:20200809T001501Z
LOCATION:Blue Team Vlg / Blue Team Vlg - Workshop Track 1
END:VEVENT
END:VCALENDAR
