BEGIN:VCALENDAR
PRODID:-//vBulletin 6//EN
VERSION:2.0
CALSCALE:GREGORIAN
BEGIN:VEVENT
UID:4147f597-cfe1-4df4-9f9c-188ad8f859bb
DTSTAMP:20260420T164551Z
SUMMARY:(Beginner) Introduction to Malware Analysis &amp\; Response (MA&amp
 \;R)
DESCRIPTION:Title: (Beginner) Introduction to Malware Analysis & Response (
 MA&R)\n\nDescription:\nIn this introductory hands-on fundamental malware a
 nalysis workshop. IT and Cybersecurity professionals will learn the basic 
 skills necessary to safely analyze the characteristics and behavior of mal
 ware. Students will walk away with practical techniques and methodologies 
 that can be immediately applied to statically and dynamically analyzing so
 ftware with an emphasis on malicious software. Gone are the days where inc
 ident responders reformat infected systems destroying valuable evidence. P
 reserving and analyzing malware artifacts will give attendees the skills t
 o understand\, at a high level\, the techniques and malicious intents of m
 alware that defeated their security controls.\n\nLEARNING OBJECTIVES\n1. U
 nderstand fundamentals of malware analysis\n2. Understand the goals and be
 nefits of performing malware analysis\n3. Be able to perform basic static 
 analysis on Windows malware\n4. Be able to setup a malware analysis lab\n5
 . Be able to perform dynamic analysis on Windows malware\n\nWho should tak
 e this course?\nIT and Cybersecurity students and professionals. This is a
 n introduction to malware analysis course for beginners.\n\nWhat will stud
 ents be provided with?\nStudents will be provided with a Windows 10 virtua
 l machines (trial version) with malware analysis tools and training materi
 al. Attendees will be provided with step-by-step instructional labs.\n\nSp
 eaker(s): Michael Wylie\n\nLocation: Blue Team Vlg / Blue Team Vlg - Works
 hop Track 1\n\nDiscord: https://discord.com/channels/708208267699945503/73
 2454317658734613\n\nEvent starts: 2020-08-09 09:00 (09:00 AM) PDT (UTC -07
 :00)\n\nEvent ends: 2020-08-09 10:30 (10:30 AM) PDT (UTC -07:00)\n\nFor th
 e most up-to-date information\, please either visit https://info.defcon.or
 g\, or use HackerTracker\, which is available for iOS and Android. This is
  an automated message\, and this data was last modified 2020-08-03T01:04 (
 UTC).
URL:https://forum.defcon.org/node/234107
DTSTART:20200809T170000Z
DTEND:20200809T183001Z
LOCATION:Blue Team Vlg / Blue Team Vlg - Workshop Track 1
END:VEVENT
END:VCALENDAR
