BEGIN:VCALENDAR
PRODID:-//vBulletin 6//EN
VERSION:2.0
CALSCALE:GREGORIAN
BEGIN:VEVENT
UID:e1741717-d7ec-4314-a07b-7a123b37bfaf
DTSTAMP:20260421T111736Z
SUMMARY:(Beginner) Cloud Security Monitoring on a Dime Store Budget
DESCRIPTION:Title: (Beginner) Cloud Security Monitoring on a Dime Store Bud
 get\n\nDescription:\nAs organizations continue to rely on the cloud to run
  critical production workloads and store potentially sensitive data\, it i
 s more important than ever to understand our cloud infrastructure\, and im
 plement monitoring to assist in providing greater insight into the "goings
  on” of cloud environments.\nIn this workshop\, attendees will learn how
  they can leverage free and open source tools to enable effective network 
 security monitoring for major cloud providers\, extending their visibility
 \, providing greater overall context with regard to their organization's n
 etwork traffic\, and identifying anomalies that otherwise might have gone 
 unnoticed.\n\nThis workshop will address the following topics:\n\nIntroduc
 tion to NSM (Network Security Monitoring Concepts) - key NSM concepts will
  be discussed/explained\nMajor cloud providers\, and native mechanisms to 
 facilitate network security monitoring\nAWS/Google Cloud\nPacket mirroring
  - we'll discuss what packet mirroring is\, and how it can be utilized\nCl
 oud provider-specific core NSM/infrastructure/networking concepts and impl
 ementation - in this section\, we'll discuss the components of each cloud 
 provider's infrastructure\, and how it relates to our approach to network 
 security monitoring\nAWS\nGoogle Cloud\nAutomating deployment for cloud en
 vironments - in this section\, we'll discuss how to automate deployment of
  cloud security monitoring (for free)\, as well as how to quickly and easi
 ly spin up and environment for testing\, academia\, or even a PoC for a po
 tential production deployment.\n\nSpeaker(s): Wes Lambert\n\nLocation: Blu
 e Team Vlg / Blue Team Vlg - Workshop Track 2\n\nDiscord: https://discord.
 com/channels/708208267699945503/732454317658734613\n\nEvent starts: 2020-0
 8-09 13:30 (01:30 PM) PDT (UTC -07:00)\n\nEvent ends: 2020-08-09 15:00 (03
 :00 PM) PDT (UTC -07:00)\n\nFor the most up-to-date information\, please e
 ither visit https://info.defcon.org\, or use HackerTracker\, which is avai
 lable for iOS and Android. This is an automated message\, and this data wa
 s last modified 2020-08-03T00:19 (UTC).
URL:https://forum.defcon.org/node/234110
DTSTART:20200809T213000Z
DTEND:20200809T230001Z
LOCATION:Blue Team Vlg / Blue Team Vlg - Workshop Track 2
END:VEVENT
END:VCALENDAR
