BEGIN:VCALENDAR
PRODID:-//vBulletin 6//EN
VERSION:2.0
CALSCALE:GREGORIAN
BEGIN:VEVENT
UID:bc35cac5-6b90-49d7-abd2-8014f0c6f176
DTSTAMP:20260421T214945Z
SUMMARY:Blue Team Village Closing Ceremony
DESCRIPTION:Title: Blue Team Village Closing Ceremony\n\nLocation: Blue Tea
 m Vlg / Blue Team Vlg - Talks Track 1\n\nDiscord: https://discord.com/chan
 nels/708208267699945503/732454317658734613\n\nEvent starts: 2020-08-09 17:
 00 (05:00 PM) PDT (UTC -07:00)\n\nEvent ends: 2020-08-09 18:00 (06:00 PM) 
 PDT (UTC -07:00)\n\nFor the most up-to-date information\, please either vi
 sit https://info.defcon.org\, or use HackerTracker\, which is available fo
 r iOS and Android. This is an automated message\, and this data was last m
 odified 2020-08-03T00:13 (UTC).
URL:https://forum.defcon.org/node/234112
DTSTART:20200810T010000Z
DTEND:20200810T020001Z
LOCATION:Blue Team Vlg / Blue Team Vlg - Talks Track 1
END:VEVENT
END:VCALENDAR
