BEGIN:VCALENDAR
PRODID:-//vBulletin 6//EN
VERSION:2.0
CALSCALE:GREGORIAN
BEGIN:VEVENT
UID:15add1b4-3831-4b41-aa95-09cc6e6c1bdf
DTSTAMP:20260421T043718Z
SUMMARY:OpenSOC CTF Tool Demo: Thinkst Canary
DESCRIPTION:Title: OpenSOC CTF Tool Demo: Thinkst Canary\n\nLocation: Blue 
 Team Vlg / Blue Team Vlg - Workshop Track 1\n\nDiscord: https://discord.co
 m/channels/708208267699945503/732454317658734613\n\nEvent starts: 2020-08-
 06 17:15 (05:15 PM) PDT (UTC -07:00)\n\nEvent ends: 2020-08-06 18:00 (06:0
 0 PM) PDT (UTC -07:00)\n\nFor the most up-to-date information\, please eit
 her visit https://info.defcon.org\, or use HackerTracker\, which is availa
 ble for iOS and Android. This is an automated message\, and this data was 
 last modified 2020-07-29T01:29 (UTC).
URL:https://forum.defcon.org/node/234120
DTSTART:20200807T011500Z
DTEND:20200807T020001Z
LOCATION:Blue Team Vlg / Blue Team Vlg - Workshop Track 1
END:VEVENT
END:VCALENDAR
