BEGIN:VCALENDAR
PRODID:-//vBulletin 6//EN
VERSION:2.0
CALSCALE:GREGORIAN
BEGIN:VEVENT
UID:b343b880-8e00-4964-a87a-078102786dd7
DTSTAMP:20260420T062456Z
SUMMARY:Automotive In-Vehicle Networks
DESCRIPTION:Modern vehicles are home to tens of Electronic Control Units (E
 CUs) that each manage a different subsystem of the vehicle. With the contr
 ol of the vehicle distributed across so many machines\, sharing informatio
 n in a robust\, timely manner becomes a necessity. In-Vehicle Networks wer
 e developed to meet these communication needs\, bringing functionality opt
 imized for the automotive environment into the industry. In this CHV101 le
 cture\, we'll explore the different In-Vehicle Network technologies used i
 n vehicles today and each of their strengths and applications.\n\nSpeaker(
 s): Kamel Ghali\n\nLocation: Car Hacking Vlg\n\nDiscord: https://discord.c
 om/channels/708208267699945503/735651343007744051\n\nEvent starts: 2020-08
 -07 10:00 (10:00 AM) PDT (UTC -07:00)\n\nEvent ends: 2020-08-07 10:50 (10:
 50 AM) PDT (UTC -07:00)\n\nFor the most up-to-date information\, please ei
 ther visit https://info.defcon.org\, or use HackerTracker\, which is avail
 able for iOS and Android. This is an automated message\, and this data was
  last modified 2020-07-31T00:57 (UTC).
URL:https://forum.defcon.org/node/234121
DTSTART:20200807T180000Z
DTEND:20200807T185001Z
LOCATION:Car Hacking Vlg
END:VEVENT
END:VCALENDAR
