BEGIN:VCALENDAR
PRODID:-//vBulletin 6//EN
VERSION:2.0
CALSCALE:GREGORIAN
BEGIN:VEVENT
UID:eeadd29b-835a-44f9-a497-27deb1fa5de9
DTSTAMP:20260420T101151Z
SUMMARY:Building Teams in the New Normal
DESCRIPTION:2020 has created massive change across our industry\, both from
  the perspective of COVID-19 as well as the social movements that have cha
 nged the way we view ourselves. Nowhere has this affected the industry mor
 e than the experience by which we onboard employees - as an example\, befo
 re 2020\, even most remote employees had in person interviews in the proce
 ss. In short\, the "new normal" that is evolving requires us to hire and i
 nterview differently. From where and how we find (especially diverse) cand
 idates\, our interview processes and the way we onboard employees in to ou
 r culture\, everything requires a thoughtful new approach. In this talk\, 
 Mike will talk about everything he has learned and how he has modified his
  own processes to promote diversity\, find the best people to join the tea
 m\, and brought them aboard as part of the culture.\n\nSpeaker(s): Mike Mu
 rray\n\nLocation: Career Hacking Vlg\n\nDiscord: https://discord.com/chann
 els/708208267699945503/732732774347309077\n\nEvent starts: 2020-08-07 16:0
 0 (04:00 PM) PDT (UTC -07:00)\n\nEvent ends: 2020-08-07 17:00 (05:00 PM) P
 DT (UTC -07:00)\n\nFor the most up-to-date information\, please either vis
 it https://info.defcon.org\, or use HackerTracker\, which is available for
  iOS and Android. This is an automated message\, and this data was last mo
 dified 2020-07-31T02:04 (UTC).
URL:https://forum.defcon.org/node/234162
DTSTART:20200808T000000Z
DTEND:20200808T010001Z
LOCATION:Career Hacking Vlg
END:VEVENT
END:VCALENDAR
