BEGIN:VCALENDAR
PRODID:-//vBulletin 6//EN
VERSION:2.0
CALSCALE:GREGORIAN
BEGIN:VEVENT
UID:532db70e-4b6a-439a-a4d7-3768028ce6fb
DTSTAMP:20260420T080055Z
SUMMARY:Drinks with Recruiters
DESCRIPTION:Title: Drinks with Recruiters\n\nDescription:\nRecruiters are p
 eople too\, but given the backlashes we have seen along with the poor spam
  messages from "recruiters" you would think otherwise. So a group of recru
 iters familiar with the community will sit down over drinks and share some
  of their horror stories. From this you will learn how to improve your job
  search\, your interviewing and maybe come to enjoy working with recruiter
 s.\n\nSpeaker(s): Kris Rides\, Rachel Bozeman\, Matt Duren\, Pete Radloff\
 n\nLocation: Career Hacking Vlg\n\nDiscord: https://discord.com/channels/7
 08208267699945503/732732774347309077\n\nEvent starts: 2020-08-08 15:00 (03
 :00 PM) PDT (UTC -07:00)\n\nEvent ends: 2020-08-08 16:00 (04:00 PM) PDT (U
 TC -07:00)\n\nFor the most up-to-date information\, please either visit ht
 tps://info.defcon.org\, or use HackerTracker\, which is available for iOS 
 and Android. This is an automated message\, and this data was last modifie
 d 2020-08-02T18:58 (UTC).
URL:https://forum.defcon.org/node/234163
DTSTART:20200808T230000Z
DTEND:20200809T000001Z
LOCATION:Career Hacking Vlg
END:VEVENT
END:VCALENDAR
