BEGIN:VCALENDAR
PRODID:-//vBulletin 6//EN
VERSION:2.0
CALSCALE:GREGORIAN
BEGIN:VEVENT
UID:55cfab59-c584-4dca-b8ba-5d23e801dc9a
DTSTAMP:20260420T020644Z
SUMMARY:National Service Panel: Career Opportunities Supporting the Country
DESCRIPTION:Title: National Service Panel: Career Opportunities Supporting 
 the Country\n\nDescription:\nThe National Service Panel highlights the opp
 ortunities and challenges with national service\, focusing on tech-related
  programs across the federal government. The panel is organized by the Mil
 itary Cyber Professionals Association (MCPA) and includes reps discussing 
 the US Digital Service\, US Marine Corps Cyber Auxiliary\, National Securi
 ty Agency (NSA)\, US Army Cyber Direct Commissioning Program\, and Cyberse
 curity and Infrastructure Security Agency (CISA).\n\nSpeaker(s): John Felk
 er\, Diane Janosek\, Chris Pimlott\, Roman Vitkovitsky\, Liz Popiak\, Joe 
 Billingsley\n\nLocation: Career Hacking Vlg\n\nDiscord: https://discord.co
 m/channels/7082082...32774347309077 (https://discord.com/channels/70820826
 7699945503/732732774347309077)\n\nEvent starts: 2020-08-08 13:00 (01:00 PM
 ) PDT (UTC -07:00)\n\nEvent ends: 2020-08-08 14:00 (02:00 PM) PDT (UTC -07
 :00)\n\nFor the most up-to-date information\, please either visit https://
 info.defcon.org\, or use HackerTracker\, which is available for iOS and An
 droid. This is an automated message\, and this data was last modified 2020
 -08-02T18:57 (UTC).
URL:https://forum.defcon.org/node/234167
DTSTART:20200808T210000Z
DTEND:20200808T220001Z
LOCATION:Career Hacking Vlg
END:VEVENT
END:VCALENDAR
