BEGIN:VCALENDAR
PRODID:-//vBulletin 6//EN
VERSION:2.0
CALSCALE:GREGORIAN
BEGIN:VEVENT
UID:b55ffd13-400d-4445-b7e2-d16392e250ee
DTSTAMP:20260422T050730Z
SUMMARY:Veteran Transition Tips
DESCRIPTION:There’s no shortage of advice out there for transitioning vet
 eran job seekers – unfortunately much of the advice tends to be cookie c
 utter tips focusing on the most basic of topics. This program will help tr
 ansitioning veterans in the cyber security industry understand the hiring 
 landscape\, highlight the difference between the recruiters who put you in
  the service and ones working to help you land that first job as a civilia
 n\, as well as how to leverage job board and job fairs\, including virtual
  events. We’ll even put some special emphasis on how to really build you
 r professional network and manage a your transition from different geograp
 hical locations.\n\nSpeaker(s): Bob Wheeler\n\nLocation: Career Hacking Vl
 g\n\nDiscord: https://discord.com/channels/708208267699945503/732732774347
 309077\n\nEvent starts: 2020-08-08 14:00 (02:00 PM) PDT (UTC -07:00)\n\nEv
 ent ends: 2020-08-08 15:00 (03:00 PM) PDT (UTC -07:00)\n\nFor the most up-
 to-date information\, please either visit https://info.defcon.org\, or use
  HackerTracker\, which is available for iOS and Android. This is an automa
 ted message\, and this data was last modified 2020-07-31T02:05 (UTC).
URL:https://forum.defcon.org/node/234168
DTSTART:20200808T220000Z
DTEND:20200808T230001Z
LOCATION:Career Hacking Vlg
END:VEVENT
END:VCALENDAR
