BEGIN:VCALENDAR
PRODID:-//vBulletin 6//EN
VERSION:2.0
CALSCALE:GREGORIAN
BEGIN:VEVENT
UID:ddf5d387-3ea9-4588-b9c9-68cacfe4aeaa
DTSTAMP:20260422T050720Z
SUMMARY:Future Proofing Your Career
DESCRIPTION:Title: Future Proofing Your Career\n\nDescription:\nWe have ent
 ered the 4th industrial revolution\, a time marked by the interconnection 
 of hyper-instrumented physical\, biological\, and digital worlds.\nThe acc
 ompanying pace of technological development will exert profound changes in
  the way people live and work\, impacting all disciplines\, economies\, an
 d industries. Preparing the cybersecurity workforce for the changes that w
 ill reframe their careers requires insight and a vision of our possible fu
 ture.\n\nNext-generation security professionals will both leverage and wor
 k alongside purpose-based digital assistants to help navigate the explosio
 n of data created by intelligent ecosystems. These virtual assistants will
  replace current knowledge management platforms/intranets\, dashboards\, a
 nd manage any security process that can be automated. As machine learning 
 and cognitive solutions evolve in sophistication\, security teams must re-
 examine how they organize work\, design jobs\, and plan for future growth.
  Let's futurecast near term technological trends and identify the concrete
  steps all security professionals need in the Age of the Intelligent Ecosy
 stem and the Augmented Workforce.\n\nSpeaker(s): Jenai Marinkovic\n\nLocat
 ion: Career Hacking Vlg\n\nDiscord: https://discord.com/channels/708208267
 699945503/732732774347309077\n\nEvent starts: 2020-08-07 17:00 (05:00 PM) 
 PDT (UTC -07:00)\n\nEvent ends: 2020-08-07 18:00 (06:00 PM) PDT (UTC -07:0
 0)\n\nFor the most up-to-date information\, please either visit https://in
 fo.defcon.org\, or use HackerTracker\, which is available for iOS and Andr
 oid. This is an automated message\, and this data was last modified 2020-0
 8-02T18:58 (UTC).
URL:https://forum.defcon.org/node/234169
DTSTART:20200808T010000Z
DTEND:20200808T020001Z
LOCATION:Career Hacking Vlg
END:VEVENT
END:VCALENDAR
