BEGIN:VCALENDAR
PRODID:-//vBulletin 6//EN
VERSION:2.0
CALSCALE:GREGORIAN
BEGIN:VEVENT
UID:15bc247d-4899-4f67-bdf8-b0eaf334895e
DTSTAMP:20260420T203530Z
SUMMARY:The Norwegian Blue: A lesson in Privacy Engineering
DESCRIPTION:"Can smartphones automate contact tracing?" As COVID-19 spread 
 like wildfire earlier this year\, health authorities around the world aske
 d themselves this question. If so: What data would you need\, from whom\, 
 under what circumstances – and which safeguards should be in place? You 
 could just upload all of everyone's data from every sensor continuously\, 
 right? It's not like you know for certain what data you'll need anyways. B
 esides\, people should trust their government. What could go possibly wron
 g? Join me as I explore how Norway became worst-in-class in contact tracin
 g. I'll be telling the story of how I became a member of the government ap
 pointed expert panel tasked with evaluating the Norwegian COVID-19 app\, w
 hat we found\, as well as the weirdness that unfolded around us before\, d
 uring\, and after our work.\n\nSpeaker(s): Eivind Arvesen\n\nLocation: Cry
 pto & Privacy Vlg\n\nDiscord: https://discord.com/channels/708208267699945
 503/732734002011832320\n\nEvent starts: 2020-08-07 12:00 (12:00 PM) PDT (U
 TC -07:00)\n\nEvent ends: 2020-08-07 13:00 (01:00 PM) PDT (UTC -07:00)\n\n
 For the most up-to-date information\, please either visit https://info.def
 con.org\, or use HackerTracker\, which is available for iOS and Android. T
 his is an automated message\, and this data was last modified 2020-07-30T0
 5:21 (UTC).
URL:https://forum.defcon.org/node/234172
DTSTART:20200807T200000Z
DTEND:20200807T210001Z
LOCATION:Crypto & Privacy Vlg
END:VEVENT
END:VCALENDAR
