BEGIN:VCALENDAR
PRODID:-//vBulletin 6//EN
VERSION:2.0
CALSCALE:GREGORIAN
BEGIN:VEVENT
UID:5c9a93d5-d936-48af-9b99-b634d2074947
DTSTAMP:20260421T043838Z
SUMMARY:Dos\, Donts and How-Tos of crypto building blocks using Java
DESCRIPTION:Do you feel unequipped to understand real world crypto attacks?
  Are you overwhelmed with the over-abundance of choices provided by any mo
 dern cryptography API\, to make a secure decision while choosing a randomn
 ess provider\, encryption scheme or digital signature APIs? Are you on top
  of all the latest happenings in cryptographic communities\, to know which
  cryptographic primitives is deemed broken? Due to sheer lack of documenta
 tion of the chosen API\, do you feel paralyzed on where and how to start d
 esigning or analyzing any cryptographic systems?\n\nIf any of these answer
 s are "yes"\, come join me in this talk. I will be going over each cryptog
 raphic primitive like Random Number Generators\, Encryption/Decryption alg
 orithms\, message authentication codes\, digital signatures\, password sto
 rage etc pointing out dos and donts based on evaluating bunch of leading c
 ryptographic implementations. Java being one of the most widely used enter
 prise language\, and simultaneously one of the most chaotic cryptography a
 rchitecture\, we chose it to get into some live coding exercises to showca
 se its secure usage\, while also future-proofing your cryptographic applic
 ations.\n\nSpeaker(s): Mansi Sheth\n\nLocation: Crypto & Privacy Vlg\n\nDi
 scord: https://discord.com/channels/708208267699945503/732734002011832320\
 n\nEvent starts: 2020-08-07 13:00 (01:00 PM) PDT (UTC -07:00)\n\nEvent end
 s: 2020-08-07 14:00 (02:00 PM) PDT (UTC -07:00)\n\nFor the most up-to-date
  information\, please either visit https://info.defcon.org\, or use Hacker
 Tracker\, which is available for iOS and Android. This is an automated mes
 sage\, and this data was last modified 2020-07-30T05:21 (UTC).
URL:https://forum.defcon.org/node/234173
DTSTART:20200807T210000Z
DTEND:20200807T220001Z
LOCATION:Crypto & Privacy Vlg
END:VEVENT
END:VCALENDAR
