BEGIN:VCALENDAR
PRODID:-//vBulletin 6//EN
VERSION:2.0
CALSCALE:GREGORIAN
BEGIN:VEVENT
UID:b75fe44f-e94f-4cfd-b253-07112de5f06a
DTSTAMP:20260421T060514Z
SUMMARY:How to store sensitive information in 2020?
DESCRIPTION:It goes without saying never ever store personal/sensitive info
 rmation in clear text. It is also a well-known fact salting\, hashing or s
 tretching your information can just provide little offline information cra
 cking protection against contemporary computer architectures and modern br
 ute force attack constructs. Those abreast with this subject would have co
 me across countless advocatory material suggesting to use key derivation f
 unctions (KDFs) to store sensitive information.\n\nThere are handful of so
 lid KDFs\, which are good candidates to use for storing sensitive informat
 ion such as pbkdf2\, bcrypt\, scrypt\, Argon2. In this talk\, lets dive de
 eper to study some of its underlying crypto\, what and how to tune these a
 lgorithms with secure input parameter configurations and how to decide whi
 ch algorithm would be the right choice for your needs? Lastly\, I will pre
 sent some statistics on how well do all these different algorithms compare
  against each other.\n\nSpeaker(s): Mansi Sheth\n\nLocation: Crypto & Priv
 acy Vlg\n\nDiscord: https://discord.com/channels/708208267699945503/732734
 002011832320\n\nEvent starts: 2020-08-07 14:00 (02:00 PM) PDT (UTC -07:00)
 \n\nEvent ends: 2020-08-07 15:00 (03:00 PM) PDT (UTC -07:00)\n\nFor the mo
 st up-to-date information\, please either visit https://info.defcon.org\, 
 or use HackerTracker\, which is available for iOS and Android. This is an 
 automated message\, and this data was last modified 2020-07-30T05:22 (UTC)
 .
URL:https://forum.defcon.org/node/234174
DTSTART:20200807T220000Z
DTEND:20200807T230001Z
LOCATION:Crypto & Privacy Vlg
END:VEVENT
END:VCALENDAR
