BEGIN:VCALENDAR
PRODID:-//vBulletin 6//EN
VERSION:2.0
CALSCALE:GREGORIAN
BEGIN:VEVENT
UID:8627fcb2-bb3e-42c4-935a-74d19c2f5446
DTSTAMP:20260421T060534Z
SUMMARY:DNS Privacy
DESCRIPTION:While there are many protocols such as https that encrypt netwo
 rk sessions to preserve the security and privacy of that communication\, t
 ypically the first step is a DNS query. DNS\, being a plaintext protocol\,
  can compromise the privacy of a user. In this talk we will discuss what c
 an be currently done and potential future protocols such as Oblivious DNS.
 \n\nSpeaker(s): Matt Cheung\n\nLocation: Crypto & Privacy Vlg\n\nDiscord: 
 https://discord.com/channels/708208267699945503/732734002011832320\n\nEven
 t starts: 2020-08-07 16:00 (04:00 PM) PDT (UTC -07:00)\n\nEvent ends: 2020
 -08-07 17:00 (05:00 PM) PDT (UTC -07:00)\n\nFor the most up-to-date inform
 ation\, please either visit https://info.defcon.org\, or use HackerTracker
 \, which is available for iOS and Android. This is an automated message\, 
 and this data was last modified 2020-07-30T05:22 (UTC).
URL:https://forum.defcon.org/node/234176
DTSTART:20200808T000000Z
DTEND:20200808T010001Z
LOCATION:Crypto & Privacy Vlg
END:VEVENT
END:VCALENDAR
