BEGIN:VCALENDAR
PRODID:-//vBulletin 6//EN
VERSION:2.0
CALSCALE:GREGORIAN
BEGIN:VEVENT
UID:f73903c1-a70f-4f48-be38-1001c56c1de0
DTSTAMP:20260421T195023Z
SUMMARY:Fireside Chat: All about Section 230\, the EARN IT Act\, and What T
 hey Mean for Free Speech and Encry
DESCRIPTION:It seems like everyone's talking about Section 230 these days\,
  and keen to change it\, even without really knowing what it says and does
 . Or how badly most of the proposals to change it\, such as the EARN IT Ac
 t bill\, threaten all sorts of things we value\, including encryption\, pr
 ivacy\, security\, and free speech online. Come to this crash course in Se
 ction 230 basics\, followed by a fireside chat about EARN IT between two s
 easoned lawyers\, to learn the truth about this crucial law\, why these pr
 oposals are so terrible\, and how you can take action to protect the Inter
 net.\n\nSpeaker(s): Cathy Gellis\, Riana Pfefferkorn\n\nLocation: Crypto &
  Privacy Vlg\n\nDiscord: https://discord.com/channels/708208267699945503/7
 32734002011832320\n\nEvent starts: 2020-08-07 17:00 (05:00 PM) PDT (UTC -0
 7:00)\n\nEvent ends: 2020-08-07 18:00 (06:00 PM) PDT (UTC -07:00)\n\nFor t
 he most up-to-date information\, please either visit https://info.defcon.o
 rg\, or use HackerTracker\, which is available for iOS and Android. This i
 s an automated message\, and this data was last modified 2020-07-30T05:22 
 (UTC).
URL:https://forum.defcon.org/node/234177
DTSTART:20200808T010000Z
DTEND:20200808T020001Z
LOCATION:Crypto & Privacy Vlg
END:VEVENT
END:VCALENDAR
