BEGIN:VCALENDAR
PRODID:-//vBulletin 6//EN
VERSION:2.0
CALSCALE:GREGORIAN
BEGIN:VEVENT
UID:788779f0-7cf2-49bf-9ba1-b5c815370e57
DTSTAMP:20260421T061702Z
SUMMARY:Online Ads as a Recon and Surveillance Tool
DESCRIPTION:Inspired by and building on previous research and presentations
  on the topic (namely 0x200b's presentation from DEFCON 26*)\, this presen
 tation will explore the possibility and feasibility of leveraging features
  of online targeted advertising platforms including Google and Facebook as
  a reconnaissance and surveillance tool. Unlike previous presentations at 
 DEFCON\, I intend to demonstrate that the targeted advertising attack has 
 potential to be applied beyond the context of a red team targeting blue te
 am personnel and can be leveraged against many average Internet users by a
  determined and resourced attacker. By exploring the advertising surveilla
 nce systems built into the majority of today’s Internet-connected device
 s and services\, I hope to enable privacy-conscious individuals to better 
 protect themselves against targeted ad information collection schemes.\n\n
 Speaker(s): Neil M\n\nLocation: Crypto & Privacy Vlg\n\nDiscord: https://d
 iscord.com/channels/708208267699945503/732734002011832320\n\nEvent starts:
  2020-08-08 11:00 (11:00 AM) PDT (UTC -07:00)\n\nEvent ends: 2020-08-08 11
 :30 (11:30 AM) PDT (UTC -07:00)\n\nFor the most up-to-date information\, p
 lease either visit https://info.defcon.org\, or use HackerTracker\, which 
 is available for iOS and Android. This is an automated message\, and this 
 data was last modified 2020-07-30T05:22 (UTC).
URL:https://forum.defcon.org/node/234179
DTSTART:20200808T190000Z
DTEND:20200808T193001Z
LOCATION:Crypto & Privacy Vlg
END:VEVENT
END:VCALENDAR
