BEGIN:VCALENDAR
PRODID:-//vBulletin 6//EN
VERSION:2.0
CALSCALE:GREGORIAN
BEGIN:VEVENT
UID:884b259a-2881-4910-b75c-3547b85fa6c8
DTSTAMP:20260421T102349Z
SUMMARY:Differential Privacy..more important than ever in the world of Covi
 d-19
DESCRIPTION:The goal of this talk is to explain the concept of anonymizatio
 n and differential privacy\, as well as offer up Codelabs and modules with
  the purpose of explaining Google’s open source Differential Privacy lib
 rary and other tools for implementation purposes. We will offer up our Cov
 id Mobility reports as a case study and talk about the importance of priva
 cy preserving aggregation from a social science perspective.\n\nSpeaker(s)
 : Aditi Joshi\n\nLocation: Crypto & Privacy Vlg\n\nDiscord: https://discor
 d.com/channels/708208267699945503/732734002011832320\n\nEvent starts: 2020
 -08-08 12:00 (12:00 PM) PDT (UTC -07:00)\n\nEvent ends: 2020-08-08 13:00 (
 01:00 PM) PDT (UTC -07:00)\n\nFor the most up-to-date information\, please
  either visit https://info.defcon.org\, or use HackerTracker\, which is av
 ailable for iOS and Android. This is an automated message\, and this data 
 was last modified 2020-07-30T05:23 (UTC).
URL:https://forum.defcon.org/node/234181
DTSTART:20200808T200000Z
DTEND:20200808T210001Z
LOCATION:Crypto & Privacy Vlg
END:VEVENT
END:VCALENDAR
