BEGIN:VCALENDAR
PRODID:-//vBulletin 6//EN
VERSION:2.0
CALSCALE:GREGORIAN
BEGIN:VEVENT
UID:c7f20026-0223-42c5-b5d7-9360e3b19285
DTSTAMP:20260421T060434Z
SUMMARY:Rights You Can’t Exercise Can’t Protect You: Privacy by Design\
 , Dark Patterns\, and Cultural Context
DESCRIPTION:Privacy isn’t a one-size-fits-all solution and different pers
 pectives\, disciplines\, and cultures are important considerations for giv
 ing consumers the choice & control they deserve—and the rights they are 
 entitled to under the law. How can we bring new stakeholders to the table\
 , build privacy controls users can find and understand\, and hold companie
 s accountable for respecting data rights?\n\nSpeaker(s): Ben Brook\, Marit
 za Johnson\, Megan DeBlois\, Zach Singleton\n\nLocation: Crypto & Privacy 
 Vlg\n\nDiscord: https://discord.com/channels/708208267699945503/7327340020
 11832320\n\nEvent starts: 2020-08-08 13:00 (01:00 PM) PDT (UTC -07:00)\n\n
 Event ends: 2020-08-08 14:00 (02:00 PM) PDT (UTC -07:00)\n\nFor the most u
 p-to-date information\, please either visit https://info.defcon.org\, or u
 se HackerTracker\, which is available for iOS and Android. This is an auto
 mated message\, and this data was last modified 2020-07-30T05:23 (UTC).
URL:https://forum.defcon.org/node/234182
DTSTART:20200808T210000Z
DTEND:20200808T220001Z
LOCATION:Crypto & Privacy Vlg
END:VEVENT
END:VCALENDAR
