BEGIN:VCALENDAR
PRODID:-//vBulletin 6//EN
VERSION:2.0
CALSCALE:GREGORIAN
BEGIN:VEVENT
UID:9bccc704-4ca5-4687-91ce-41edc62e4ddf
DTSTAMP:20260421T120609Z
SUMMARY:Hacking like Paris Hilton 14 years later - and still winning!
DESCRIPTION:Simswap attacks has increased in recent years\, with several hi
 gh-profile cases in the media showing very fast & effective ways of duping
  people or getting access to valuable accounts . All the way back in 2006 
 Paris Hilton got accused of hacking into the voicemail of Lindsay Lohan\, 
 while similar scandals has been observed since then in other countries as 
 well.\n\nAsking around in my home country of Norway\, neither simswap atta
 cks or voicemail hacking seemed to be known among most infosec people\, or
  at least not part of anyone's risk analysis. So I decided to take a close
 r look.\n\nThe results were shocking at many levels\, from technical level
 s to political decisions & apathy. Several million customers of 3 differen
 t carriers in 3 countries were exposed to potential voicemail hacking for 
 up to 13 years. A fake business card was enough to do a simswap & hijack t
 he number of a famous female blogger\, while credential stuffing against a
  mobile carrier allowed for account hijacking of women who used SMS 2FA wi
 th their accounts at various services.\n\nThis talk will explain what I fo
 und\, what I did\, and how it changed carriers\, government agencies\, pol
 itics & law.\n\nSpeaker(s): Per Thorsheim\n\nLocation: Crypto & Privacy Vl
 g\n\nDiscord: https://discord.com/channels/708208267699945503/732734002011
 832320\n\nEvent starts: 2020-08-08 14:00 (02:00 PM) PDT (UTC -07:00)\n\nEv
 ent ends: 2020-08-08 15:00 (03:00 PM) PDT (UTC -07:00)\n\nFor the most up-
 to-date information\, please either visit https://info.defcon.org\, or use
  HackerTracker\, which is available for iOS and Android. This is an automa
 ted message\, and this data was last modified 2020-07-30T05:23 (UTC).
URL:https://forum.defcon.org/node/234183
DTSTART:20200808T220000Z
DTEND:20200808T230001Z
LOCATION:Crypto & Privacy Vlg
END:VEVENT
END:VCALENDAR
