BEGIN:VCALENDAR
PRODID:-//vBulletin 6//EN
VERSION:2.0
CALSCALE:GREGORIAN
BEGIN:VEVENT
UID:d856920a-aab7-4cad-89bb-0671ac8a339d
DTSTAMP:20260420T065810Z
SUMMARY:Next level stalker ware
DESCRIPTION:What if parents could see everything their children had ever pu
 rchased? What if your ex could get a list of all your expenses? Without yo
 u knowing\, or using the service yourself? It's already happening because 
 many companies allow this kind of spying with nothing more than a person's
  bank card number\, account number or license plate number.\n\nNorway is f
 ar ahead in adoption of digital solutions. Services\, bank services\, and 
 citizenship. Automatic detection of license plates\, and digital receipt. 
 Now the dark side of this is revealed: several cases of the next level sta
 lker ware. Where bad actors gain access to other peoples information via c
 entralized services\, using easily obtainable\, pieces of information.\n\n
 Even when made aware of the problem the companies choose to accept the ris
 k\, pushing the responsibility and cost to stay safe on to the unknowing u
 sers. But what can we do ?\n\nThe talk will describe the process of pursui
 ng some of the cases in a country with GDPR implemented\, as well as discu
 ss efforts to provide non-users with additional security and privacy.\n\nS
 peaker(s): Cecilie Wian\n\nLocation: Crypto & Privacy Vlg\n\nDiscord: http
 s://discord.com/channels/708208267699945503/732734002011832320\n\nEvent st
 arts: 2020-08-08 16:00 (04:00 PM) PDT (UTC -07:00)\n\nEvent ends: 2020-08-
 08 17:00 (05:00 PM) PDT (UTC -07:00)\n\nFor the most up-to-date informatio
 n\, please either visit https://info.defcon.org\, or use HackerTracker\, w
 hich is available for iOS and Android. This is an automated message\, and 
 this data was last modified 2020-07-30T05:23 (UTC).
URL:https://forum.defcon.org/node/234185
DTSTART:20200809T000000Z
DTEND:20200809T010001Z
LOCATION:Crypto & Privacy Vlg
END:VEVENT
END:VCALENDAR
