BEGIN:VCALENDAR
PRODID:-//vBulletin 6//EN
VERSION:2.0
CALSCALE:GREGORIAN
BEGIN:VEVENT
UID:295c72fd-ad29-4332-a807-3e334c830e8f
DTSTAMP:20260420T065740Z
SUMMARY:Fear\, Uncertainty\, and Doubt about Human Microchip Implants
DESCRIPTION:Why are some U.S. lawmakers calling for a preemptive ban on hum
 an microchip implants? Today\, more than 50\,000 people worldwide have ele
 cted to receive microchip implants. This technology is especially popular 
 in Sweden\, where more than 4\,000 Swedes are replacing keycards for chip 
 implants to use for gym access\, e-tickets on railway travel\, and even st
 ore emergency contact information and social media profiles. While chip im
 plants are gradually being embraced\, some U.S. lawmakers are taking preem
 ptive action to prohibit forced microchipping and calling it “a rabbit h
 ole I don’t think we should go down". Together\, let's go down this 'rab
 bit hole' to explore the legal\, technical\, and ethical implications of h
 uman microchipping.\n\nSpeaker(s): Zhanna Malekos Smith\n\nLocation: Crypt
 o & Privacy Vlg\n\nDiscord: https://discord.com/channels/70820826769994550
 3/732734002011832320\n\nEvent starts: 2020-08-09 11:00 (11:00 AM) PDT (UTC
  -07:00)\n\nEvent ends: 2020-08-09 11:30 (11:30 AM) PDT (UTC -07:00)\n\nFo
 r the most up-to-date information\, please either visit https://info.defco
 n.org\, or use HackerTracker\, which is available for iOS and Android. Thi
 s is an automated message\, and this data was last modified 2020-07-30T05:
 24 (UTC).
URL:https://forum.defcon.org/node/234188
DTSTART:20200809T190000Z
DTEND:20200809T193001Z
LOCATION:Crypto & Privacy Vlg
END:VEVENT
END:VCALENDAR
