BEGIN:VCALENDAR
PRODID:-//vBulletin 6//EN
VERSION:2.0
CALSCALE:GREGORIAN
BEGIN:VEVENT
UID:f5ae0132-16b0-4a34-8c67-c040d093ec58
DTSTAMP:20260420T020654Z
SUMMARY:What if we had TLS for phone numbers? An introduction to SHAKEN/STI
 R
DESCRIPTION:If you've noticed a surge in unwanted robocalls from your own a
 rea code in the last few years\, you're not alone. The way telephony syste
 ms are set up today\, anyone can spoof a call or a text from any number. W
 ith an estimated 85 billion spam calls globally\, it's time to address the
  problem. This talk will discuss the latest advancements with STIR (Secure
  Telephone Identity Revisited) and SHAKEN (Signature-based Handling of Ass
 erted information using toKENs)\, new tech standards that use well accepte
 d public key cryptography methods to validate caller identification. We'll
  discuss the path and challenges to getting this implemented industry wide
 \, where this tech will fall short\, and what we can do to limit exposure 
 to call spam and fraud in the meantime.\n\nSpeaker(s): Kelley Robinson\n\n
 Location: Crypto & Privacy Vlg\n\nDiscord: https://discord.com/channels/70
 8208267699945503/732734002011832320\n\nEvent starts: 2020-08-09 11:30 (11:
 30 AM) PDT (UTC -07:00)\n\nEvent ends: 2020-08-09 12:00 (12:00 PM) PDT (UT
 C -07:00)\n\nFor the most up-to-date information\, please either visit htt
 ps://info.defcon.org\, or use HackerTracker\, which is available for iOS a
 nd Android. This is an automated message\, and this data was last modified
  2020-08-01T02:02 (UTC).
URL:https://forum.defcon.org/node/234189
DTSTART:20200809T193000Z
DTEND:20200809T200001Z
LOCATION:Crypto & Privacy Vlg
END:VEVENT
END:VCALENDAR
