BEGIN:VCALENDAR
PRODID:-//vBulletin 6//EN
VERSION:2.0
CALSCALE:GREGORIAN
BEGIN:VEVENT
UID:cd113034-8e47-454d-8ac0-9517338fa556
DTSTAMP:20260420T065750Z
SUMMARY:Workshop: Let's Talk About Abusability Testing
DESCRIPTION:Are you concerned about how your products may be used for harm:
  intentionally or unintentionally? We will be covering the concept of abus
 ability testing for platform abuse in this hybrid panel and workshop\, wit
 h a clicker style method of interacting to foster deep understanding and p
 articipate in discussions on abusability testing. You’ll walk away with 
 an understanding of abusability testing\, join a community passionate abou
 t fighting platform abuse\, and maybe walk away with actionable steps you 
 can take to alleviate harm in your own products.\n\nSpeaker(s): Avi Zajac\
 , Franchesca Spektor\, Ji Su Yoo\, Nicole Chi\n\nLocation: Crypto & Privac
 y Vlg\n\nDiscord: https://discord.com/channels/708208267699945503/73273400
 2011832320\n\nEvent starts: 2020-08-09 12:00 (12:00 PM) PDT (UTC -07:00)\n
 \nEvent ends: 2020-08-09 13:00 (01:00 PM) PDT (UTC -07:00)\n\nFor the most
  up-to-date information\, please either visit https://info.defcon.org\, or
  use HackerTracker\, which is available for iOS and Android. This is an au
 tomated message\, and this data was last modified 2020-07-30T05:24 (UTC).
URL:https://forum.defcon.org/node/234190
DTSTART:20200809T200000Z
DTEND:20200809T210001Z
LOCATION:Crypto & Privacy Vlg
END:VEVENT
END:VCALENDAR
