BEGIN:VCALENDAR
PRODID:-//vBulletin 6//EN
VERSION:2.0
CALSCALE:GREGORIAN
BEGIN:VEVENT
UID:d8dab635-2b94-44ac-ab18-05613063894b
DTSTAMP:20260421T040058Z
SUMMARY:Vote @ Home Workshop
DESCRIPTION:Title: Vote @ Home Workshop\n\nDescription:\nThis will be a 40-
 minute pre-recorded talk\, followed by a 30-minute live Q&A session.\n\nSp
 eaker(s): Andrea Matwyshyn\n\nLocation: Ethics Vlg\n\nDiscord: https://dis
 cord.com/channels/708208267699945503/732732980342030449\n\nEvent starts: 2
 020-08-08 12:00 (12:00 PM) PDT (UTC -07:00)\n\nEvent ends: 2020-08-08 14:1
 0 (02:10 PM) PDT (UTC -07:00)\n\nFor the most up-to-date information\, ple
 ase either visit https://info.defcon.org\, or use HackerTracker\, which is
  available for iOS and Android. This is an automated message\, and this da
 ta was last modified 2020-08-06T23:02 (UTC).
URL:https://forum.defcon.org/node/234193
DTSTART:20200808T200000Z
DTEND:20200808T221001Z
LOCATION:Ethics Vlg
END:VEVENT
END:VCALENDAR
