BEGIN:VCALENDAR
PRODID:-//vBulletin 6//EN
VERSION:2.0
CALSCALE:GREGORIAN
BEGIN:VEVENT
UID:950db606-af9d-4c69-95d4-b9e2076b12c6
DTSTAMP:20260420T065820Z
SUMMARY:Build a Raspberry AIS
DESCRIPTION:Speaker(s): Dr. Gary Kessler\n\nLocation: Hack the Sea Vlg\n\nD
 iscord: https://discord.com/channels/708208267699945503/732733427823935589
 \n\nEvent starts: 2020-08-07 12:00 (12:00 PM) PDT (UTC -07:00)\n\nEvent en
 ds: 2020-08-07 13:00 (01:00 PM) PDT (UTC -07:00)\n\nFor the most up-to-dat
 e information\, please either visit https://info.defcon.org\, or use Hacke
 rTracker\, which is available for iOS and Android. This is an automated me
 ssage\, and this data was last modified 2020-07-31T01:04 (UTC).
URL:https://forum.defcon.org/node/234200
DTSTART:20200807T200000Z
DTEND:20200807T210001Z
LOCATION:Hack the Sea Vlg
END:VEVENT
END:VCALENDAR
