BEGIN:VCALENDAR
PRODID:-//vBulletin 6//EN
VERSION:2.0
CALSCALE:GREGORIAN
BEGIN:VEVENT
UID:1f1bfc9f-22c3-4bb4-be62-6fceafa02f3a
DTSTAMP:20260420T033103Z
SUMMARY:Getting Started – Building an IoT Hardware Hacking Lab
DESCRIPTION:Title: Getting Started – Building an IoT Hardware Hacking Lab
 \n\nDescription:\nThis learning session will focus on the subject of build
 ing an IoT hardware hacking lab. During this learning session various tool
 s and technologies will be shown and discussed that are needed for physica
 l disassembly\, soldering\, debugging\, and analyzing. Covering the basic 
 entry level to the more advanced lab equipment needed and used. After each
  learning objective we will have Q&A sessions\n\nLocation: IoT Vlg / IOT V
 lg\n\nDiscord: https://discord.com/channels/708208267699945503/73273456560
 4655114\n\nEvent starts: 2020-08-07 10:45 (10:45 AM) PDT (UTC -07:00)\n\nE
 vent ends: 2020-08-07 11:45 (11:45 AM) PDT (UTC -07:00)\n\nFor the most up
 -to-date information\, please either visit https://info.defcon.org\, or us
 e HackerTracker\, which is available for iOS and Android. This is an autom
 ated message\, and this data was last modified 2020-08-08T03:26 (UTC).
URL:https://forum.defcon.org/node/234207
DTSTART:20200807T184500Z
DTEND:20200807T194501Z
LOCATION:IoT Vlg / IOT Vlg
END:VEVENT
END:VCALENDAR
