BEGIN:VCALENDAR
PRODID:-//vBulletin 6//EN
VERSION:2.0
CALSCALE:GREGORIAN
BEGIN:VEVENT
UID:73bd1223-81e8-46d1-86c6-fb9a73cd9841
DTSTAMP:20260421T120530Z
SUMMARY:Hacking smart-devices for fun and profit: From exploiting my smart-
 home into controlling thousands
DESCRIPTION:Title: Hacking smart-devices for fun and profit: From exploitin
 g my smart-home into controlling thousands of smart-devices around the wor
 ld\n\nDescription:\nSmart-devices are anywhere\, connecting lights\, AC\, 
 cameras and even heat-sensors. They present a weak spot in which hackers c
 an hack and learn about internal network-configuration\, change arbitrary 
 controllers\, and lead to high physical & software damage. In our scenario
 \, thousands of HDL smart devices could have been exploited & remotely con
 trolled in the wild. 4 unique vulnerabilities have been found and presente
 d here - We show how they can be utilized by a sophisticated attacker to s
 tealth-access smart-devices remotely\, change\, control and take advantage
  of their data. Also\, we show how a full data-extraction of smart-devices
  managing accounts: private data and credentials could have been extracted
  as well. This unique attack scenario demonstrates the high-security impac
 t of deploying IoT devices over any organization\, especially when using d
 edicated IoT hardware and proprietary components which are interconnected 
 and even remotely managed. A coordinated responsible disclosure was done a
 nd thankful to HDL responsiveness & approach - All was fixed.\n\nSpeaker(s
 ): Barak Sternberg\n\nLocation: IoT Vlg / IOT Vlg\n\nDiscord: https://disc
 ord.com/channels/708208267699945503/732734565604655114\n\nEvent starts: 20
 20-08-08 09:00 (09:00 AM) PDT (UTC -07:00)\n\nEvent ends: 2020-08-08 09:45
  (09:45 AM) PDT (UTC -07:00)\n\nFor the most up-to-date information\, plea
 se either visit https://info.defcon.org\, or use HackerTracker\, which is 
 available for iOS and Android. This is an automated message\, and this dat
 a was last modified 2020-08-08T03:00 (UTC).
URL:https://forum.defcon.org/node/234214
DTSTART:20200808T170000Z
DTEND:20200808T174501Z
LOCATION:IoT Vlg / IOT Vlg
END:VEVENT
END:VCALENDAR
