BEGIN:VCALENDAR
PRODID:-//vBulletin 6//EN
VERSION:2.0
CALSCALE:GREGORIAN
BEGIN:VEVENT
UID:1c1c7573-df8d-4adc-be1f-7244bdf1912c
DTSTAMP:20260420T050704Z
SUMMARY:Introduction to U-Boot Interaction and Hacking
DESCRIPTION:Title: Introduction to U-Boot Interaction and Hacking\n\nDescri
 ption:\nThis learning session will guide the attendees through various con
 cepts related U-boot including hacks to gain access to U-boot console\, U-
 boot console commands and structure and various methods on using U-boot to
  exploit an embedded IoT systems. After each learning objective we will ha
 ve Q&A sessions.\n\nSpeaker(s): Garrett Enoch\n\nLocation: IoT Vlg / IOT V
 lg\n\nDiscord: https://discord.com/channels/708208267699945503/73273456560
 4655114\n\nEvent starts: 2020-08-08 11:00 (11:00 AM) PDT (UTC -07:00)\n\nE
 vent ends: 2020-08-08 12:00 (12:00 PM) PDT (UTC -07:00)\n\nFor the most up
 -to-date information\, please either visit https://info.defcon.org\, or us
 e HackerTracker\, which is available for iOS and Android. This is an autom
 ated message\, and this data was last modified 2020-08-08T03:28 (UTC).
URL:https://forum.defcon.org/node/234216
DTSTART:20200808T190000Z
DTEND:20200808T200001Z
LOCATION:IoT Vlg / IOT Vlg
END:VEVENT
END:VCALENDAR
