BEGIN:VCALENDAR
PRODID:-//vBulletin 6//EN
VERSION:2.0
CALSCALE:GREGORIAN
BEGIN:VEVENT
UID:97bf6d37-7f26-4d93-ae17-56cb04ea7b7b
DTSTAMP:20260420T112819Z
SUMMARY:Hacking The Internet on the IoT
DESCRIPTION:Location: IoT Vlg\n\nDiscord: https://discord.com/channels/7082
 08267699945503/732734565604655114\n\nEvent starts: 2020-08-08 12:30 (12:30
  PM) PDT (UTC -07:00)\n\nEvent ends: 2020-08-08 13:15 (01:15 PM) PDT (UTC 
 -07:00)\n\nFor the most up-to-date information\, please either visit https
 ://info.defcon.org\, or use HackerTracker\, which is available for iOS and
  Android. This is an automated message\, and this data was last modified 2
 020-07-29T01:17 (UTC).
URL:https://forum.defcon.org/node/234217
DTSTART:20200808T203000Z
DTEND:20200808T211501Z
LOCATION:IoT Vlg
END:VEVENT
END:VCALENDAR
