BEGIN:VCALENDAR
PRODID:-//vBulletin 6//EN
VERSION:2.0
CALSCALE:GREGORIAN
BEGIN:VEVENT
UID:22c346f9-2338-4ba3-8e69-fcc35b6629ab
DTSTAMP:20260420T050735Z
SUMMARY:Learning to Use Logic Analyzers
DESCRIPTION:Title: Learning to Use Logic Analyzers\n\nDescription:\nThis le
 arning session attendees will learn how to properly utilize a logic analyz
 er for examining\, testing and decoding digital communication on embedded 
 systems. Also\, various logic analyzers from cheap models to the more expe
 nsive models will be shown and discussed. After each learning objective we
  will have Q&A sessions.\n\nSpeaker(s): Jonathan Stines\n\nLocation: IoT V
 lg / IOT Vlg\n\nDiscord: https://discord.com/channels/708208267699945503/7
 32734565604655114\n\nEvent starts: 2020-08-08 15:30 (03:30 PM) PDT (UTC -0
 7:00)\n\nEvent ends: 2020-08-08 16:30 (04:30 PM) PDT (UTC -07:00)\n\nFor t
 he most up-to-date information\, please either visit https://info.defcon.o
 rg\, or use HackerTracker\, which is available for iOS and Android. This i
 s an automated message\, and this data was last modified 2020-08-08T03:32 
 (UTC).
URL:https://forum.defcon.org/node/234220
DTSTART:20200808T233000Z
DTEND:20200809T003001Z
LOCATION:IoT Vlg / IOT Vlg
END:VEVENT
END:VCALENDAR
