BEGIN:VCALENDAR
PRODID:-//vBulletin 6//EN
VERSION:2.0
CALSCALE:GREGORIAN
BEGIN:VEVENT
UID:f4148da0-7d0b-40c0-9863-d79c70d77e7b
DTSTAMP:20260420T125532Z
SUMMARY:Bypass 101 + Q&amp\;A
DESCRIPTION:Title: Bypass 101 + Q&A\n\nLocation: Lock Bypass Vlg\n\nDiscord
 : https://discord.com/channels/708208267699945503/732732893830447175\n\nEv
 ent starts: 2020-08-07 10:00 (10:00 AM) PDT (UTC -07:00)\n\nEvent ends: 20
 20-08-07 11:30 (11:30 AM) PDT (UTC -07:00)\n\nFor the most up-to-date info
 rmation\, please either visit https://info.defcon.org\, or use HackerTrack
 er\, which is available for iOS and Android. This is an automated message\
 , and this data was last modified 2020-08-03T17:24 (UTC).
URL:https://forum.defcon.org/node/234223
DTSTART:20200807T180000Z
DTEND:20200807T193001Z
LOCATION:Lock Bypass Vlg
END:VEVENT
END:VCALENDAR
