BEGIN:VCALENDAR
PRODID:-//vBulletin 6//EN
VERSION:2.0
CALSCALE:GREGORIAN
BEGIN:VEVENT
UID:e94abbad-eefe-4fb5-a83e-06dc671a8694
DTSTAMP:20260420T111746Z
SUMMARY:DIY Bypass Tool Workshop + Q&amp\;A
DESCRIPTION:Title: DIY Bypass Tool Workshop + Q&A\n\nLocation: Lock Bypass 
 Vlg\n\nDiscord: https://discord.com/channels/708208267699945503/7327328938
 30447175\n\nEvent starts: 2020-08-07 11:30 (11:30 AM) PDT (UTC -07:00)\n\n
 Event ends: 2020-08-07 13:00 (01:00 PM) PDT (UTC -07:00)\n\nFor the most u
 p-to-date information\, please either visit https://info.defcon.org\, or u
 se HackerTracker\, which is available for iOS and Android. This is an auto
 mated message\, and this data was last modified 2020-08-03T17:24 (UTC).
URL:https://forum.defcon.org/node/234224
DTSTART:20200807T193000Z
DTEND:20200807T210001Z
LOCATION:Lock Bypass Vlg
END:VEVENT
END:VCALENDAR
