BEGIN:VCALENDAR
PRODID:-//vBulletin 6//EN
VERSION:2.0
CALSCALE:GREGORIAN
BEGIN:VEVENT
UID:2d8024c1-768d-43a5-a568-cde9ec61f600
DTSTAMP:20260420T142928Z
SUMMARY:Alarm Bypass + Q&amp\;A
DESCRIPTION:Title: Alarm Bypass + Q&A\n\nLocation: Lock Bypass Vlg\n\nDisco
 rd: https://discord.com/channels/708208267699945503/732732893830447175\n\n
 Event starts: 2020-08-07 15:00 (03:00 PM) PDT (UTC -07:00)\n\nEvent ends: 
 2020-08-07 16:30 (04:30 PM) PDT (UTC -07:00)\n\nFor the most up-to-date in
 formation\, please either visit https://info.defcon.org\, or use HackerTra
 cker\, which is available for iOS and Android. This is an automated messag
 e\, and this data was last modified 2020-08-03T17:24 (UTC).
URL:https://forum.defcon.org/node/234225
DTSTART:20200807T230000Z
DTEND:20200808T003001Z
LOCATION:Lock Bypass Vlg
END:VEVENT
END:VCALENDAR
