BEGIN:VCALENDAR
PRODID:-//vBulletin 6//EN
VERSION:2.0
CALSCALE:GREGORIAN
BEGIN:VEVENT
UID:f72f896c-baf6-4aee-81bc-0ac809162e5d
DTSTAMP:20260420T033052Z
SUMMARY:Alarm Bypass + Q&amp\;A
DESCRIPTION:Title: Alarm Bypass + Q&A\n\nLocation: Lock Bypass Vlg\n\nDisco
 rd: https://discord.com/channels/708208267699945503/732732893830447175\n\n
 Event starts: 2020-08-08 12:30 (12:30 PM) PDT (UTC -07:00)\n\nEvent ends: 
 2020-08-08 14:00 (02:00 PM) PDT (UTC -07:00)\n\nFor the most up-to-date in
 formation\, please either visit https://info.defcon.org\, or use HackerTra
 cker\, which is available for iOS and Android. This is an automated messag
 e\, and this data was last modified 2020-08-03T17:23 (UTC).
URL:https://forum.defcon.org/node/234229
DTSTART:20200808T203000Z
DTEND:20200808T220001Z
LOCATION:Lock Bypass Vlg
END:VEVENT
END:VCALENDAR
