BEGIN:VCALENDAR
PRODID:-//vBulletin 6//EN
VERSION:2.0
CALSCALE:GREGORIAN
BEGIN:VEVENT
UID:97de85d9-d602-4089-8aa1-039c13635902
DTSTAMP:20260420T160436Z
SUMMARY:Bypass 101 + Q&amp\;A
DESCRIPTION:Title: Bypass 101 + Q&A\n\nLocation: Lock Bypass Vlg\n\nDiscord
 : https://discord.com/channels/708208267699945503/732732893830447175\n\nEv
 ent starts: 2020-08-08 15:30 (03:30 PM) PDT (UTC -07:00)\n\nEvent ends: 20
 20-08-08 17:00 (05:00 PM) PDT (UTC -07:00)\n\nFor the most up-to-date info
 rmation\, please either visit https://info.defcon.org\, or use HackerTrack
 er\, which is available for iOS and Android. This is an automated message\
 , and this data was last modified 2020-08-03T17:23 (UTC).
URL:https://forum.defcon.org/node/234231
DTSTART:20200808T233000Z
DTEND:20200809T010001Z
LOCATION:Lock Bypass Vlg
END:VEVENT
END:VCALENDAR
