BEGIN:VCALENDAR
PRODID:-//vBulletin 6//EN
VERSION:2.0
CALSCALE:GREGORIAN
BEGIN:VEVENT
UID:f9be69fe-8181-45e0-ac82-918322efab39
DTSTAMP:20260420T045927Z
SUMMARY:General Q&amp\;A / Drop-in and Chat
DESCRIPTION:Title: General Q&A / Drop-in and Chat\n\nLocation: Lock Bypass 
 Vlg\n\nDiscord: https://discord.com/channels/708208267699945503/7327328938
 30447175\n\nEvent starts: 2020-08-09 15:30 (03:30 PM) PDT (UTC -07:00)\n\n
 Event ends: 2020-08-09 17:00 (05:00 PM) PDT (UTC -07:00)\n\nFor the most u
 p-to-date information\, please either visit https://info.defcon.org\, or u
 se HackerTracker\, which is available for iOS and Android. This is an auto
 mated message\, and this data was last modified 2020-08-03T17:23 (UTC).
URL:https://forum.defcon.org/node/234232
DTSTART:20200809T233000Z
DTEND:20200810T010001Z
LOCATION:Lock Bypass Vlg
END:VEVENT
END:VCALENDAR
