BEGIN:VCALENDAR
PRODID:-//vBulletin 6//EN
VERSION:2.0
CALSCALE:GREGORIAN
BEGIN:VEVENT
UID:408b0903-208b-4688-86f9-8ce908837e5e
DTSTAMP:20260420T065730Z
SUMMARY:Architecting Modern Payment Gateways in .Net core with Azure
DESCRIPTION:In this session am going to explain how to work with payment ga
 teways and how to implement a secured payment gateways in .net core web Ap
 ps. This session also includes some core concepts of Azure that plays an i
 mportant role in transaction.\n\nSpeaker(s): Menaka BaskerPillai\n\nLocati
 on: Payment Vlg\n\nDiscord: https://discord.com/channels/70820826769994550
 3/732733473558626314\n\nEvent starts: 2020-08-09 11:00 (11:00 AM) PDT (UTC
  -07:00)\n\nEvent ends: 2020-08-09 12:00 (12:00 PM) PDT (UTC -07:00)\n\nFo
 r the most up-to-date information\, please either visit https://info.defco
 n.org\, or use HackerTracker\, which is available for iOS and Android. Thi
 s is an automated message\, and this data was last modified 2020-07-31T01:
 09 (UTC).
URL:https://forum.defcon.org/node/234279
DTSTART:20200809T190000Z
DTEND:20200809T200001Z
LOCATION:Payment Vlg
END:VEVENT
END:VCALENDAR
